Workbook

Sheet Đơn Đặt Hàng
A1: CÔNG TY CỔ PHẦN BIBICA
A2: Địa chỉ: 443 Lý Thường Kiệt, Phường 8, Tân Bình, TP.HCM
A3: Tel : 098 1515 000 - 0961 192 913
A4: Email: banhbibica@gmail.com
A5: Website: www.banhtrungthubibica.vn
A8: ĐƠN ĐẶT HÀNG BÁNH TRUNG THU BIBICA
A12: MÃ SP | B12: DÒNG SẢN PHẨM | D12: TRỌNG LƯỢNG | E12: GIÁ BÁN | F12: SL | G12: THÀNH TIỀN
A13: HỘP BÁNH TRUNG THU BIBICA CAO CẤP
A14: DN1 | B14: ĐẾ NGUYỆT 1 (Hộp 8 bánh) | D14: 960g | E14: 2600000 | G14: =E14*F14 -> 0
A15: DN2 | B15: ĐẾ NGUYỆT 2 (Hộp 8 bánh) | D15: 960g | E15: 2600000 | G15: =E15*F15 -> 0
A16: PQ1 | B16: PHÚ QUÝ ĐOÀN VIÊN 1 (Hộp 8 bánh) | D16: 800g | E16: 1600000 | G16: =E16*F16 -> 0
A17: PQ2 | B17: PHÚ QUÝ ĐOÀN VIÊN 2 (Hộp 8 bánh) | D17: 800g | E17: 1600000 | G17: =E17*F17 -> 0
A18: THN1 | B18: THƯỞNG NGUYỆT 1 (Hộp 6 bánh) | D18: 720g | E18: 1350000 | G18: =E18*F18 -> 0
A19: TNH2 | B19: THƯỞNG NGUYỆT 2 (Hộp 6 bánh) | D19: 720g | E19: 1350000 | G19: =E19*F19 -> 0
A20: MN | B20: MINH NGUYỆT (Hộp 7 bánh + 1 trà) | D20: 560g | E20: 1000000 | G20: =E20*F20 -> 0
A21: PN1 | B21: PHÚC NGUYỆT 1 (Hộp 4 bánh + trà) | D21: 1000g | E21: 860000 | G21: =E21*F21 -> 0
A22: PN2 | B22: PHÚC NGUYỆT 2 (Hộp 4 bánh + trà) | D22: 1000g | E22: 860000 | G22: =E22*F22 -> 0
A23: TN1 | B23: THU NGUYỆT 1 (Hộp 4 bánh) | D23: 800g | E23: 600000 | G23: =E23*F23 -> 0
A24: TN2 | B24: THU NGUYỆT 2 (Hộp 4 bánh) | D24: 800g | E24: 600000 | G24: =E24*F24 -> 0
A25: TN3 | B25: THU NGUYỆT 3 (Hộp 4 bánh) | D25: 800g | E25: 600000 | G25: =E25*F25 -> 0
... A38: SM3 | B38: BST SẮC MÀU LỄ HỘI 3 (Hộp 6 bánh) | D38: 480g | E38: 380000 | G38: =E38*F38 -> 0
A39: BÁNH NƯỚNG 250g
A40: OGR | B40: GÀ CUỘN RONG BIỂN | C40: (2 trứng) | D40: 250g | E40: 130000 | G40: =E40*F40 -> 0
A41: O4 | B41: THẬP CẨM LẠP XƯỞNG | C41: (2 trứng) | D41: 250g | E41: 130000 | G41: =E41*F41 -> 0
A42: OHD | B42: HẠT SEN HẠT DƯA | C42: (2 trứng) | D42: 250g | E42: 115000 | G42: =E42*F42 -> 0
A43: O6 | B43: ĐẬU XANH | C43: (2 trứng) | D43: 250g | E43: 111000 | G43: =E43*F43 -> 0
A44: BÁNH NƯỚNG 210g
A45: 8GR | B45: GÀ CUỘN RONG BIỂN | C45: (2 trứng) | D45: 210g | E45: 120000 | G45: =E45*F45 -> 0
A46: 83 | B46: JAMBON BÁT BỬU | C46: (2 trứng) | D46: 210g | E46: 120000 | G46: =E46*F46 -> 0
A47: 84 | B47: THẬP CẨM LẠP XƯỞNG | C47: (2 trứng) | D47: 210g | E47: 118000 | G47: =E47*F47 -> 0
A48: 86 | B48: ĐẬU XANH | C48: (2 trứng) | D48: 210g | E48: 98000 | G48: =E48*F48 -> 0
A49: 87 | B49: SỮA DỪA | C49: (2 trứng) | D49: 210g | E49: 98000 | G49: =E49*F49 -> 0
A50: 8CC | B50: CÀ PHÊ DỪA TƯƠI | C50: (2 trứng) | D50: 210g | E50: 98000 | G50: =E50*F50 -> 0
A51: BÁNH NƯỚNG 180g
A52: 6GR | B52: GÀ CUỘN RONG BIỂN | C52: (1 trứng) | D52: 180g | E52: 81000 | G52: =E52*F52 -> 0
A53: 63 | B53: JAMBON BÁT BỬU | C53: (1 trứng) | D53: 180g | E53: 81000 | G53: =E53*F53 -> 0
A54: 64 | B54: THẬP CẨM LẠP XƯỞNG | C54: (1 trứng) | D54: 180g | E54: 80000 | G54: =E54*F54 -> 0
A55: 6DR | B55: DỪA SẦU RIÊNG | C55: (1 trứng) | D55: 180g | E55: 72000 | G55: =E55*F55 -> 0
A56: 66 | B56: ĐẬU XANH | C56: (1 trứng) | D56: 150g | E56: 68000 | G56: =E56*F56 -> 0
A57: BÁNH NƯỚNG 150g
...

Sheet Phiếu Giao Hàng
A1: CÔNG TY CỔ PHẦN BIBICA
A2: Địa chỉ: 443 Lý Thường Kiệt, Phường 8, Tân Bình, TP.HCM
A3: Tel : 098 1515 000 - 0961 192 913
A4: Email: banhbibica@gmail.com
A5: Website: www.banhtrungthubibica.vn
A8: ĐƠN HÀNG BÁNH TRUNG THU BIBICA
B10: Khách Hàng: | C10: ='Đơn Đặt Hàng'!D107 -> 0
B11: Địa Chỉ Giao Hàng: | C11: ='Đơn Đặt Hàng'!D108 -> 0
B12: Người Liên Hệ: | C12: ='Đơn Đặt Hàng'!D109 -> 0
B13: Điện Thoại: | C13: ='Đơn Đặt Hàng'!D110 -> 0
B14: Ngày Giao: | C14: ='Đơn Đặt Hàng'!D111 -> 0
B15: Nhân Viên Phụ Trách Đơn Hàng: | C15: ='Đơn Đặt Hàng'!D112 -> 0
A17: MÃ SP | B17: DÒNG SẢN PHẨM | D17: TRỌNG LƯỢNG | E17: GIÁ BÁN | F17: SL | G17: THÀNH TIỀN
A18: HỘP BÁNH TRUNG THU BIBICA CAO CẤP
A19: DN1 | B19: ĐẾ NGUYỆT 1 (Hộp 8 bánh) | D19: 960g | E19: 2600000 | F19: ='Đơn Đặt Hàng'!F14 -> 0 | G19: =E19*F19 -> 0
A20: DN2 | B20: ĐẾ NGUYỆT 2 (Hộp 8 bánh) | D20: 960g | E20: 2600000 | F20: ='Đơn Đặt Hàng'!F15 -> 0 | G20: =E20*F20 -> 0
A21: PQ1 | B21: PHÚ QUÝ ĐOÀN VIÊN 1 (Hộp 8 bánh) | D21: 800g | E21: 1600000 | F21: ='Đơn Đặt Hàng'!F16 -> 0 | G21: =E21*F21 -> 0
A22: PQ2 | B22: PHÚ QUÝ ĐOÀN VIÊN 2 (Hộp 8 bánh) | D22: 800g | E22: 1600000 | F22: ='Đơn Đặt Hàng'!F17 -> 0 | G22: =E22*F22 -> 0
A23: THN1 | B23: THƯỞNG NGUYỆT 1 (Hộp 6 bánh) | D23: 720g | E23: 1350000 | F23: ='Đơn Đặt Hàng'!F18 -> 0 | G23: =E23*F23 -> 0
A24: TNH2 | B24: THƯỞNG NGUYỆT 2 (Hộp 6 bánh) | D24: 720g | E24: 1350000 | F24: ='Đơn Đặt Hàng'!F19 -> 0 | G24: =E24*F24 -> 0
A25: MN | B25: MINH NGUYỆT (Hộp 7 bánh + 1 trà) | D25: 560g | E25: 1000000 | F25: ='Đơn Đặt Hàng'!F20 -> 0 | G25: =E25*F25 -> 0
A26: PN1 | B26: PHÚC NGUYỆT 1 (Hộp 4 bánh + trà) | D26: 1000g | E26: 860000 | F26: ='Đơn Đặt Hàng'!F21 -> 0 | G26: =E26*F26 -> 0
A27: PN2 | B27: PHÚC NGUYỆT 2 (Hộp 4 bánh + trà) | D27: 1000g | E27: 860000 | F27: ='Đơn Đặt Hàng'!F22 -> 0 | G27: =E27*F27 -> 0
A28: TN1 | B28: THU NGUYỆT 1 (Hộp 4 bánh) | D28: 800g | E28: 600000 | F28: ='Đơn Đặt Hàng'!F23 -> 0 | G28: =E28*F28 -> 0
A29: TN2 | B29: THU NGUYỆT 2 (Hộp 4 bánh) | D29: 800g | E29: 600000 | F29: ='Đơn Đặt Hàng'!F24 -> 0 | G29: =E29*F29 -> 0
A30: TN3 | B30: THU NGUYỆT 3 (Hộp 4 bánh) | D30: 800g | E30: 600000 | F30: ='Đơn Đặt Hàng'!F25 -> 0 | G30: =E30*F30 -> 0
... A43: SM3 | B43: BST SẮC MÀU LỄ HỘI 3 (Hộp 6 bánh) | D43: 480g | E43: 380000 | F43: ='Đơn Đặt Hàng'!F38 -> 0 | G43: =E43*F43 -> 0
A44: BÁNH NƯỚNG 250g
A45: OGR | B45: GÀ CUỘN RONG BIỂN | C45: (2 trứng) | D45: 250g | E45: 130000 | F45: ='Đơn Đặt Hàng'!F40 -> 0 | G45: =E45*F45 -> 0
A46: O4 | B46: THẬP CẨM LẠP XƯỞNG | C46: (2 trứng) | D46: 250g | E46: 130000 | F46: ='Đơn Đặt Hàng'!F41 -> 0 | G46: =E46*F46 -> 0
A47: OHD | B47: HẠT SEN HẠT DƯA | C47: (2 trứng) | D47: 250g | E47: 115000 | F47: ='Đơn Đặt Hàng'!F42 -> 0 | G47: =E47*F47 -> 0
A48: O6 | B48: ĐẬU XANH | C48: (2 trứng) | D48: 250g | E48: 111000 | F48: ='Đơn Đặt Hàng'!F43 -> 0 | G48: =E48*F48 -> 0
A49: BÁNH NƯỚNG 210g
A50: 8GR | B50: GÀ CUỘN RONG BIỂN | C50: (2 trứng) | D50: 210g | E50: 120000 | F50: ='Đơn Đặt Hàng'!F45 -> 0 | G50: =E50*F50 -> 0
A51: 83 | B51: JAMBON BÁT BỬU | C51: (2 trứng) | D51: 210g | E51: 120000 | F51: ='Đơn Đặt Hàng'!F46 -> 0 | G51: =E51*F51 -> 0
A52: 84 | B52: THẬP CẨM LẠP XƯỞNG | C52: (2 trứng) | D52: 210g | E52: 118000 | F52: ='Đơn Đặt Hàng'!F47 -> 0 | G52: =E52*F52 -> 0
A53: 86 | B53: ĐẬU XANH | C53: (2 trứng) | D53: 210g | E53: 98000 | F53: ='Đơn Đặt Hàng'!F48 -> 0 | G53: =E53*F53 -> 0
A54: 87 | B54: SỮA DỪA | C54: (2 trứng) | D54: 210g | E54: 98000 | F54: ='Đơn Đặt Hàng'!F49 -> 0 | G54: =E54*F54 -> 0
A55: 8CC | B55: CÀ PHÊ DỪA TƯƠI | C55: (2 trứng) | D55: 210g | E55: 98000 | F55: ='Đơn Đặt Hàng'!F50 -> 0 | G55: =E55*F55 -> 0
A56: BÁNH NƯỚNG 180g
...
