Workbook

Sheet Đơn Đặt Hàng
A1: CÔNG TY CỔ PHẦN BIBICA
A2: Địa chỉ: 443 Lý Thường Kiệt, Phường 8, Tân Bình, TP.HCM
A3: Tel : 098 1515 000 - 0961 192 913
A4: Email: banhbibica@gmail.com
A5: Website: www.banhtrungthubibica.vn
A8: ĐƠN ĐẶT HÀNG BÁNH TRUNG THU BIBICA
A12: MÃ SP | B12: DÒNG SẢN PHẨM | D12: TRỌNG LƯỢNG | E12: GIÁ BÁN | F12: SL | G12: THÀNH TIỀN
A13: HỘP BÁNH TRUNG THU BIBICA CAO CẤP
A14: DN1 | B14: ĐẾ NGUYỆT 1 (Hộp 8 bánh) | D14: 960g | E14: 2600000 | G14: =E14*F14 -> 0
A15: DN2 | B15: ĐẾ NGUYỆT 2 (Hộp 8 bánh) | D15: 960g | E15: 2600000 | G15: =E15*F15 -> 0
A16: PQ1 | B16: PHÚ QUÝ ĐOÀN VIÊN 1 (Hộp 8 bánh) | D16: 800g | E16: 1600000 | G16: =E16*F16 -> 0
A17: PQ2 | B17: PHÚ QUÝ ĐOÀN VIÊN 2 (Hộp 8 bánh) | D17: 800g | E17: 1600000 | G17: =E17*F17 -> 0
A18: THN1 | B18: THƯỞNG NGUYỆT 1 (Hộp 6 bánh) | D18: 720g | E18: 1350000 | G18: =E18*F18 -> 0
A19: TNH2 | B19: THƯỞNG NGUYỆT 2 (Hộp 6 bánh) | D19: 720g | E19: 1350000 | G19: =E19*F19 -> 0
A20: MN | B20: MINH NGUYỆT (Hộp 7 bánh + 1 trà) | D20: 560g | E20: 1000000 | G20: =E20*F20 -> 0
A21: PN1 | B21: PHÚC NGUYỆT 1 (Hộp 4 bánh + trà) | D21: 1000g | E21: 860000 | G21: =E21*F21 -> 0
A22: PN2 | B22: PHÚC NGUYỆT 2 (Hộp 4 bánh + trà) | D22: 1000g | E22: 860000 | G22: =E22*F22 -> 0
A23: TN1 | B23: THU NGUYỆT 1 (Hộp 4 bánh) | D23: 800g | E23: 600000 | G23: =E23*F23 -> 0
A24: TN2 | B24: THU NGUYỆT 2 (Hộp 4 bánh) | D24: 800g | E24: 600000 | G24: =E24*F24 -> 0
A25: TN3 | B25: THU NGUYỆT 3 (Hộp 4 bánh) | D25: 800g | E25: 600000 | G25: =E25*F25 -> 0
... A38: SM3 | B38: BST SẮC MÀU LỄ HỘI 3 (Hộp 6 bánh) | D38: 480g | E38: 380000 | G38: =E38*F38 -> 0
A39: BÁNH NƯỚNG 250g
A40: OGR | B40: GÀ CUỘN RONG BIỂN | C40: (2 trứng) | D40: 250g | E40: 130000 | G40: =E40*F40 -> 0
A41: O4 | B41: THẬP CẨM LẠP XƯỞNG | C41: (2 trứng) | D41: 250g | E41: 130000 | G41: =E41*F41 -> 0
A42: OHD | B42: HẠT SEN HẠT DƯA | C42: (2 trứng) | D42: 250g | E42: 115000 | G42: =E42*F42 -> 0
A43: O6 | B43: ĐẬU XANH | C43: (2 trứng) | D43: 250g | E43: 111000 | G43: =E43*F43 -> 0
A44: BÁNH NƯỚNG 210g
A45: 8GR | B45: GÀ CUỘN RONG BIỂN | C45: (2 trứng) | D45: 210g | E45: 120000 | G45: =E45*F45 -> 0
A46: 83 | B46: JAMBON BÁT BỬU | C46: (2 trứng) | D46: 210g | E46: 120000 | G46: =E46*F46 -> 0
A47: 84 | B47: THẬP CẨM LẠP XƯỞNG | C47: (2 trứng) | D47: 210g | E47: 118000 | G47: =E47*F47 -> 0
A48: 86 | B48: ĐẬU XANH | C48: (2 trứng) | D48: 210g | E48: 98000 | G48: =E48*F48 -> 0
A49: 87 | B49: SỮA DỪA | C49: (2 trứng) | D49: 210g | E49: 98000 | G49: =E49*F49 -> 0
A50: 8CC | B50: CÀ PHÊ DỪA TƯƠI | C50: (2 trứng) | D50: 210g | E50: 98000 | G50: =E50*F50 -> 0
A51: BÁNH NƯỚNG 180g
A52: 6GR | B52: GÀ CUỘN RONG BIỂN | C52: (1 trứng) | D52: 180g | E52: 81000 | G52: =E52*F52 -> 0
A53: 63 | B53: JAMBON BÁT BỬU | C53: (1 trứng) | D53: 180g | E53: 81000 | G53: =E53*F53 -> 0
A54: 64 | B54: THẬP CẨM LẠP XƯỞNG | C54: (1 trứng) | D54: 180g | E54: 80000 | G54: =E54*F54 -> 0
A55: 6DR | B55: DỪA SẦU RIÊNG | C55: (1 trứng) | D55: 180g | E55: 72000 | G55: =E55*F55 -> 0
A56: 66 | B56: ĐẬU XANH | C56: (1 trứng) | D56: 150g | E56: 68000 | G56: =E56*F56 -> 0
A57: BÁNH NƯỚNG 150g
A58: 4GR | B58: GÀ CUỘN RONG BIỂN | C58: (1 trứng) | D58: 150g | E58: 78000 | G58: =E58*F58 -> 0
A59: 4M | B59: GÀ QUAY MẬT ONG | C59: (1 trứng) | D59: 150g | E59: 78000 | G59: =E59*F59 -> 0
A60: 42 | B60: GÀ QUAY JAMBON | C60: (1 trứng) | D60: 150g | E60: 78000 | G60: =E60*F60 -> 0
A61: 43 | B61: JAMBON BÁT BỬU | C61: (1 trứng) | D61: 150g | E61: 76000 | G61: =E61*F61 -> 0
A62: 44 | B62: THẬP CẨM LẠP XƯỞNG | C62: (1 trứng) | D62: 150g | E62: 74000 | G62: =E62*F62 -> 0
A63: 4TT | B63: TRÀ OOLONG TRÁI CÂY | C63: (1 trứng) | D63: 150g | E63: 70000 | G63: =E63*F63 -> 0
A64: 46 | B64: ĐẬU XANH | C64: (1 trứng) | D64: 150g | E64: 64000 | G64: =E64*F64 -> 0
A65: 47 | B65: SỮA DỪA | C65: (1 trứng) | D65: 150g | E65: 64000 | G65: =E65*F65 -> 0
A66: 4DD | B66: ĐẬU ĐỎ | C66: (1 trứng) | D66: 150g | E66: 64000 | G66: =E66*F66 -> 0
A67: 49 | B67: KHOAI MÔN | C67: (1 trứng) | D67: 150g | E67: 64000 | G67: =E67*F67 -> 0
A68: 3GR | B68: GÀ CUỘN RONG BIỂN | C68: (0 trứng) | D68: 150g | E68: 69000 | G68: =E68*F68 -> 0
A69: 34 | B69: THẬP CẨM LẠP XƯỞNG | C69: (0 trứng) | D69: 150g | E69: 69000 | G69: =E69*F69 -> 0
A70: 3DR | B70: DỪA SẦU RIÊNG | C70: (0 trứng) | D70: 150g | E70: 66000 | G70: =E70*F70 -> 0
A71: 3CC | B71: CÀ PHÊ DỪA TƯƠI | C71: (0 trứng) | D71: 150g | E71: 65000 | G71: =E71*F71 -> 0
A72: 8X | B72: LAVA PHÔ MAI HẠT SEN HẠT CHIA | C72: (0 trứng) | D72: 150g | E72: 61000 | G72: =E72*F72 -> 0
A73: 36 | B73: ĐẬU XANH | C73: (0 trứng) | D73: 150g | E73: 58000 | G73: =E73*F73 -> 0
A74: 37 | B74: SỮA DỪA | C74: (0 trứng) | D74: 150g | E74: 58000 | G74: =E74*F74 -> 0
A75: 3DS | B75: DỨA HẠT SEN | C75: (0 trứng) | D75: 150g | E75: 58000 | G75: =E75*F75 -> 0
A76: 3DD | B76: ĐẬU ĐỎ | C76: (0 trứng) | D76: 150g | E76: 58000 | G76: =E76*F76 -> 0
A77: 3CD | B77: CỐM DỪA | C77: (0 trứng) | D77: 150g | E77: 58000 | G77: =E77*F77 -> 0
A78: BÁNH DẺO 230g
A79: 9HDD | B79: DẺO HẠT SEN - HẠT DƯA | C79: (1 trứng) | D79: 230g | E79: 79000 | G79: =E79*F79 -> 0
A80: 96D | B80: DẺO ĐẬU XANH | C80: (1 trứng) | D80: 230g | E80: 79000 | G80: =E80*F80 -> 0
A81: BÁNH DẺO 180g
A82: 66D | B82: DẺO ĐẬU XANH | C82: (1 trứng) | D82: 180g | E82: 64000 | G82: =E82*F82 -> 0
A83: 68D | B83: DẺO ĐẬU XANH LÁ DỨA | C83: (1 trứng) | D83: 180g | E83: 64000 | G83: =E83*F83 -> 0
A84: 54D | B84: DẺO THẬP CẨM LẠP XƯỞNG | C84: (0 trứng) | D84: 180g | E84: 62000 | G84: =E84*F84 -> 0
A85: 5HDD | B85: HẠT SEN HẠT DƯA | C85: (0 trứng) | D85: 180g | E85: 57000 | G85: =E85*F85 -> 0
A86: 57D | B86: DẺO SỮA DỪA | C86: (0 trứng) | D86: 180g | E86: 57000 | G86: =E86*F86 -> 0
A87: 5TTD | B87: DẺO TRÀ OOLONG TRÁI CÂY | C87: (0 trứng) | D87: 180g | E87: 56000 | G87: =E87*F87 -> 0
A88: 50D | B88: DẺO ĐẬU XANH - GẤC | C88: (0 trứng) | D88: 180g | E88: 56000 | G88: =E88*F88 -> 0
A89: 58D | B89: DẺO ĐẬU XANH LÁ DỨA | C89: (0 trứng) | D89: 180g | E89: 56000 | G89: =E89*F89 -> 0
A90: BÁNH DẺO 150g
A91: 3DDD | B91: DẺO ĐẬU ĐỎ | C91: (0 trứng) | D91: 180g | E91: 53000 | G91: =E91*F91 -> 0
A92: 3DSD | B92: DẺO DỨA - HẠT SEN | C92: (0 trứng) | D92: 150g | E92: 53000 | G92: =E92*F92 -> 0
A93: 3HDD | B93: DẺO HẠT SEN - HẠT DƯA | C93: (0 trứng) | D93: 150g | E93: 53000 | G93: =E93*F93 -> 0
A94: 36D | B94: DẺO ĐẬU XANH | C94: (0 trứng) | D94: 150g | E94: 51000 | G94: =E94*F94 -> 0
A95: 3NSD | B95: DẺO ĐẬU XANH NGŨ SẮC | C95: (0 trứng) | D95: 150g | E95: 51000 | G95: =E95*F95 -> 0
A96: BÁNH NƯỚNG DINH DƯỠNG
A97: 44A | B97: THẬP CẨM LẠP XƯỞNG | C97: (1 trứng) | D97: 150g | E97: 84000 | G97: =E97*F97 -> 0
A98: 40A | B98: ĐẬU XANH - GẤC | C98: (1 trứng) | D98: 150g | E98: 75000 | G98: =E98*F98 -> 0
A99: 35A | B99: HẠT SEN - TRÀ XANH | C99: (0 trứng) | D99: 150g | E99: 70000 | G99: =E99*F99 -> 0
A100: 30A | B100: ĐẬU XANH - GẤC | C100: (0 trứng) | D100: 150g | E100: 70000 | G100: =E100*F100 -> 0
E101: Tổng | F101: =SUM(F14:F100) -> 0 | G101: =SUM(G14:G100) -> 0
E102: Chiết khấu | G102: 0
E103: Số tiền trả | G103: =G101*(1-G102) -> 0
E104: (Bảng giá trên đã bao gồm VAT)
C107: Khách Hàng:
C108: Địa Chỉ:
C109: Người Liên Hệ:
C110: Điện Thoại:
C111: Ngày Giao:
C112: NV Phụ Trách:

Sheet Phiếu Giao Hàng
A1: CÔNG TY CỔ PHẦN BIBICA
A2: Địa chỉ: 443 Lý Thường Kiệt, Phường 8, Tân Bình, TP.HCM
A3: Tel : 098 1515 000 - 0961 192 913
A4: Email: banhbibica@gmail.com
A5: Website: www.banhtrungthubibica.vn
A8: ĐƠN HÀNG BÁNH TRUNG THU BIBICA
B10: Khách Hàng: | C10: ='Đơn Đặt Hàng'!D107 -> 0
B11: Địa Chỉ Giao Hàng: | C11: ='Đơn Đặt Hàng'!D108 -> 0
B12: Người Liên Hệ: | C12: ='Đơn Đặt Hàng'!D109 -> 0
B13: Điện Thoại: | C13: ='Đơn Đặt Hàng'!D110 -> 0
B14: Ngày Giao: | C14: ='Đơn Đặt Hàng'!D111 -> 0
B15: Nhân Viên Phụ Trách Đơn Hàng: | C15: ='Đơn Đặt Hàng'!D112 -> 0
A17: MÃ SP | B17: DÒNG SẢN PHẨM | D17: TRỌNG LƯỢNG | E17: GIÁ BÁN | F17: SL | G17: THÀNH TIỀN
A18: HỘP BÁNH TRUNG THU BIBICA CAO CẤP
A19: DN1 | B19: ĐẾ NGUYỆT 1 (Hộp 8 bánh) | D19: 960g | E19: 2600000 | F19: ='Đơn Đặt Hàng'!F14 -> 0 | G19: =E19*F19 -> 0
A20: DN2 | B20: ĐẾ NGUYỆT 2 (Hộp 8 bánh) | D20: 960g | E20: 2600000 | F20: ='Đơn Đặt Hàng'!F15 -> 0 | G20: =E20*F20 -> 0
A21: PQ1 | B21: PHÚ QUÝ ĐOÀN VIÊN 1 (Hộp 8 bánh) | D21: 800g | E21: 1600000 | F21: ='Đơn Đặt Hàng'!F16 -> 0 | G21: =E21*F21 -> 0
A22: PQ2 | B22: PHÚ QUÝ ĐOÀN VIÊN 2 (Hộp 8 bánh) | D22: 800g | E22: 1600000 | F22: ='Đơn Đặt Hàng'!F17 -> 0 | G22: =E22*F22 -> 0
A23: THN1 | B23: THƯỞNG NGUYỆT 1 (Hộp 6 bánh) | D23: 720g | E23: 1350000 | F23: ='Đơn Đặt Hàng'!F18 -> 0 | G23: =E23*F23 -> 0
A24: TNH2 | B24: THƯỞNG NGUYỆT 2 (Hộp 6 bánh) | D24: 720g | E24: 1350000 | F24: ='Đơn Đặt Hàng'!F19 -> 0 | G24: =E24*F24 -> 0
A25: MN | B25: MINH NGUYỆT (Hộp 7 bánh + 1 trà) | D25: 560g | E25: 1000000 | F25: ='Đơn Đặt Hàng'!F20 -> 0 | G25: =E25*F25 -> 0
A26: PN1 | B26: PHÚC NGUYỆT 1 (Hộp 4 bánh + trà) | D26: 1000g | E26: 860000 | F26: ='Đơn Đặt Hàng'!F21 -> 0 | G26: =E26*F26 -> 0
A27: PN2 | B27: PHÚC NGUYỆT 2 (Hộp 4 bánh + trà) | D27: 1000g | E27: 860000 | F27: ='Đơn Đặt Hàng'!F22 -> 0 | G27: =E27*F27 -> 0
A28: TN1 | B28: THU NGUYỆT 1 (Hộp 4 bánh) | D28: 800g | E28: 600000 | F28: ='Đơn Đặt Hàng'!F23 -> 0 | G28: =E28*F28 -> 0
A29: TN2 | B29: THU NGUYỆT 2 (Hộp 4 bánh) | D29: 800g | E29: 600000 | F29: ='Đơn Đặt Hàng'!F24 -> 0 | G29: =E29*F29 -> 0
A30: TN3 | B30: THU NGUYỆT 3 (Hộp 4 bánh) | D30: 800g | E30: 600000 | F30: ='Đơn Đặt Hàng'!F25 -> 0 | G30: =E30*F30 -> 0
... A43: SM3 | B43: BST SẮC MÀU LỄ HỘI 3 (Hộp 6 bánh) | D43: 480g | E43: 380000 | F43: ='Đơn Đặt Hàng'!F38 -> 0 | G43: =E43*F43 -> 0
A44: BÁNH NƯỚNG 250g
A45: OGR | B45: GÀ CUỘN RONG BIỂN | C45: (2 trứng) | D45: 250g | E45: 130000 | F45: ='Đơn Đặt Hàng'!F40 -> 0 | G45: =E45*F45 -> 0
A46: O4 | B46: THẬP CẨM LẠP XƯỞNG | C46: (2 trứng) | D46: 250g | E46: 130000 | F46: ='Đơn Đặt Hàng'!F41 -> 0 | G46: =E46*F46 -> 0
A47: OHD | B47: HẠT SEN HẠT DƯA | C47: (2 trứng) | D47: 250g | E47: 115000 | F47: ='Đơn Đặt Hàng'!F42 -> 0 | G47: =E47*F47 -> 0
A48: O6 | B48: ĐẬU XANH | C48: (2 trứng) | D48: 250g | E48: 111000 | F48: ='Đơn Đặt Hàng'!F43 -> 0 | G48: =E48*F48 -> 0
A49: BÁNH NƯỚNG 210g
A50: 8GR | B50: GÀ CUỘN RONG BIỂN | C50: (2 trứng) | D50: 210g | E50: 120000 | F50: ='Đơn Đặt Hàng'!F45 -> 0 | G50: =E50*F50 -> 0
A51: 83 | B51: JAMBON BÁT BỬU | C51: (2 trứng) | D51: 210g | E51: 120000 | F51: ='Đơn Đặt Hàng'!F46 -> 0 | G51: =E51*F51 -> 0
A52: 84 | B52: THẬP CẨM LẠP XƯỞNG | C52: (2 trứng) | D52: 210g | E52: 118000 | F52: ='Đơn Đặt Hàng'!F47 -> 0 | G52: =E52*F52 -> 0
A53: 86 | B53: ĐẬU XANH | C53: (2 trứng) | D53: 210g | E53: 98000 | F53: ='Đơn Đặt Hàng'!F48 -> 0 | G53: =E53*F53 -> 0
A54: 87 | B54: SỮA DỪA | C54: (2 trứng) | D54: 210g | E54: 98000 | F54: ='Đơn Đặt Hàng'!F49 -> 0 | G54: =E54*F54 -> 0
A55: 8CC | B55: CÀ PHÊ DỪA TƯƠI | C55: (2 trứng) | D55: 210g | E55: 98000 | F55: ='Đơn Đặt Hàng'!F50 -> 0 | G55: =E55*F55 -> 0
A56: BÁNH NƯỚNG 180g
A57: 6GR | B57: GÀ CUỘN RONG BIỂN | C57: (1 trứng) | D57: 180g | E57: 81000 | F57: ='Đơn Đặt Hàng'!F52 -> 0 | G57: =E57*F57 -> 0
A58: 63 | B58: JAMBON BÁT BỬU | C58: (1 trứng) | D58: 180g | E58: 81000 | F58: ='Đơn Đặt Hàng'!F53 -> 0 | G58: =E58*F58 -> 0
A59: 64 | B59: THẬP CẨM LẠP XƯỞNG | C59: (1 trứng) | D59: 180g | E59: 80000 | F59: ='Đơn Đặt Hàng'!F54 -> 0 | G59: =E59*F59 -> 0
A60: 6DR | B60: DỪA SẦU RIÊNG | C60: (1 trứng) | D60: 180g | E60: 72000 | F60: ='Đơn Đặt Hàng'!F55 -> 0 | G60: =E60*F60 -> 0
A61: 66 | B61: ĐẬU XANH | C61: (1 trứng) | D61: 150g | E61: 68000 | F61: ='Đơn Đặt Hàng'!F56 -> 0 | G61: =E61*F61 -> 0
A62: BÁNH NƯỚNG 150g
A63: 4GR | B63: GÀ CUỘN RONG BIỂN | C63: (1 trứng) | D63: 150g | E63: 78000 | F63: ='Đơn Đặt Hàng'!F58 -> 0 | G63: =E63*F63 -> 0
A64: 4M | B64: GÀ QUAY MẬT ONG | C64: (1 trứng) | D64: 150g | E64: 78000 | F64: ='Đơn Đặt Hàng'!F59 -> 0 | G64: =E64*F64 -> 0
A65: 42 | B65: GÀ QUAY JAMBON | C65: (1 trứng) | D65: 150g | E65: 78000 | F65: ='Đơn Đặt Hàng'!F60 -> 0 | G65: =E65*F65 -> 0
A66: 43 | B66: JAMBON BÁT BỬU | C66: (1 trứng) | D66: 150g | E66: 76000 | F66: ='Đơn Đặt Hàng'!F61 -> 0 | G66: =E66*F66 -> 0
A67: 44 | B67: THẬP CẨM LẠP XƯỞNG | C67: (1 trứng) | D67: 150g | E67: 74000 | F67: ='Đơn Đặt Hàng'!F62 -> 0 | G67: =E67*F67 -> 0
A68: 4TT | B68: TRÀ OOLONG TRÁI CÂY | C68: (1 trứng) | D68: 150g | E68: 70000 | F68: ='Đơn Đặt Hàng'!F63 -> 0 | G68: =E68*F68 -> 0
A69: 46 | B69: ĐẬU XANH | C69: (1 trứng) | D69: 150g | E69: 64000 | F69: ='Đơn Đặt Hàng'!F64 -> 0 | G69: =E69*F69 -> 0
A70: 47 | B70: SỮA DỪA | C70: (1 trứng) | D70: 150g | E70: 64000 | F70: ='Đơn Đặt Hàng'!F65 -> 0 | G70: =E70*F70 -> 0
A71: 4DD | B71: ĐẬU ĐỎ | C71: (1 trứng) | D71: 150g | E71: 64000 | F71: ='Đơn Đặt Hàng'!F66 -> 0 | G71: =E71*F71 -> 0
A72: 49 | B72: KHOAI MÔN | C72: (1 trứng) | D72: 150g | E72: 64000 | F72: ='Đơn Đặt Hàng'!F67 -> 0 | G72: =E72*F72 -> 0
A73: 3GR | B73: GÀ CUỘN RONG BIỂN | C73: (0 trứng) | D73: 150g | E73: 69000 | F73: ='Đơn Đặt Hàng'!F68 -> 0 | G73: =E73*F73 -> 0
A74: 34 | B74: THẬP CẨM LẠP XƯỞNG | C74: (0 trứng) | D74: 150g | E74: 69000 | F74: ='Đơn Đặt Hàng'!F69 -> 0 | G74: =E74*F74 -> 0
A75: 3DR | B75: DỪA SẦU RIÊNG | C75: (0 trứng) | D75: 150g | E75: 66000 | F75: ='Đơn Đặt Hàng'!F70 -> 0 | G75: =E75*F75 -> 0
A76: 3CC | B76: CÀ PHÊ DỪA TƯƠI | C76: (0 trứng) | D76: 150g | E76: 65000 | F76: ='Đơn Đặt Hàng'!F71 -> 0 | G76: =E76*F76 -> 0
A77: 8X | B77: LAVA PHÔ MAI HẠT SEN HẠT CHIA | C77: (0 trứng) | D77: 150g | E77: 61000 | F77: ='Đơn Đặt Hàng'!F72 -> 0 | G77: =E77*F77 -> 0
A78: 36 | B78: ĐẬU XANH | C78: (0 trứng) | D78: 150g | E78: 58000 | F78: ='Đơn Đặt Hàng'!F73 -> 0 | G78: =E78*F78 -> 0
A79: 37 | B79: SỮA DỪA | C79: (0 trứng) | D79: 150g | E79: 58000 | F79: ='Đơn Đặt Hàng'!F74 -> 0 | G79: =E79*F79 -> 0
A80: 3DS | B80: DỨA HẠT SEN | C80: (0 trứng) | D80: 150g | E80: 58000 | F80: ='Đơn Đặt Hàng'!F75 -> 0 | G80: =E80*F80 -> 0
A81: 3DD | B81: ĐẬU ĐỎ | C81: (0 trứng) | D81: 150g | E81: 58000 | F81: ='Đơn Đặt Hàng'!F76 -> 0 | G81: =E81*F81 -> 0
A82: 3CD | B82: CỐM DỪA | C82: (0 trứng) | D82: 150g | E82: 58000 | F82: ='Đơn Đặt Hàng'!F77 -> 0 | G82: =E82*F82 -> 0
A83: BÁNH DẺO 230g
A84: 9HDD | B84: DẺO HẠT SEN - HẠT DƯA | C84: (1 trứng) | D84: 230g | E84: 79000 | F84: ='Đơn Đặt Hàng'!F79 -> 0 | G84: =E84*F84 -> 0
A85: 96D | B85: DẺO ĐẬU XANH | C85: (1 trứng) | D85: 230g | E85: 79000 | F85: ='Đơn Đặt Hàng'!F80 -> 0 | G85: =E85*F85 -> 0
A86: BÁNH DẺO 180g
A87: 66D | B87: DẺO ĐẬU XANH | C87: (1 trứng) | D87: 180g | E87: 64000 | F87: ='Đơn Đặt Hàng'!F82 -> 0 | G87: =E87*F87 -> 0
A88: 68D | B88: DẺO ĐẬU XANH LÁ DỨA | C88: (1 trứng) | D88: 180g | E88: 64000 | F88: ='Đơn Đặt Hàng'!F83 -> 0 | G88: =E88*F88 -> 0
A89: 54D | B89: DẺO THẬP CẨM LẠP XƯỞNG | C89: (0 trứng) | D89: 180g | E89: 62000 | F89: ='Đơn Đặt Hàng'!F84 -> 0 | G89: =E89*F89 -> 0
A90: 5HDD | B90: HẠT SEN HẠT DƯA | C90: (0 trứng) | D90: 180g | E90: 57000 | F90: ='Đơn Đặt Hàng'!F85 -> 0 | G90: =E90*F90 -> 0
A91: 57D | B91: DẺO SỮA DỪA | C91: (0 trứng) | D91: 180g | E91: 57000 | F91: ='Đơn Đặt Hàng'!F86 -> 0 | G91: =E91*F91 -> 0
A92: 5TTD | B92: DẺO TRÀ OOLONG TRÁI CÂY | C92: (0 trứng) | D92: 180g | E92: 56000 | F92: ='Đơn Đặt Hàng'!F87 -> 0 | G92: =E92*F92 -> 0
A93: 50D | B93: DẺO ĐẬU XANH - GẤC | C93: (0 trứng) | D93: 180g | E93: 56000 | F93: ='Đơn Đặt Hàng'!F88 -> 0 | G93: =E93*F93 -> 0
A94: 58D | B94: DẺO ĐẬU XANH LÁ DỨA | C94: (0 trứng) | D94: 180g | E94: 56000 | F94: ='Đơn Đặt Hàng'!F89 -> 0 | G94: =E94*F94 -> 0
A95: BÁNH DẺO 150g
A96: 3DDD | B96: DẺO ĐẬU ĐỎ | C96: (0 trứng) | D96: 180g | E96: 53000 | F96: ='Đơn Đặt Hàng'!F91 -> 0 | G96: =E96*F96 -> 0
A97: 3DSD | B97: DẺO DỨA - HẠT SEN | C97: (0 trứng) | D97: 150g | E97: 53000 | F97: ='Đơn Đặt Hàng'!F92 -> 0 | G97: =E97*F97 -> 0
A98: 3HDD | B98: DẺO HẠT SEN - HẠT DƯA | C98: (0 trứng) | D98: 150g | E98: 53000 | F98: ='Đơn Đặt Hàng'!F93 -> 0 | G98: =E98*F98 -> 0
A99: 36D | B99: DẺO ĐẬU XANH | C99: (0 trứng) | D99: 150g | E99: 51000 | F99: ='Đơn Đặt Hàng'!F94 -> 0 | G99: =E99*F99 -> 0
A100: 3NSD | B100: DẺO ĐẬU XANH NGŨ SẮC | C100: (0 trứng) | D100: 150g | E100: 51000 | F100: ='Đơn Đặt Hàng'!F95 -> 0 | G100: =E100*F100 -> 0
A101: BÁNH NƯỚNG DINH DƯỠNG
A102: 44A | B102: THẬP CẨM LẠP XƯỞNG | C102: (1 trứng) | D102: 150g | E102: 84000 | F102: ='Đơn Đặt Hàng'!F97 -> 0 | G102: =E102*F102 -> 0
A103: 40A | B103: ĐẬU XANH - GẤC | C103: (1 trứng) | D103: 150g | E103: 75000 | F103: ='Đơn Đặt Hàng'!F98 -> 0 | G103: =E103*F103 -> 0
A104: 35A | B104: HẠT SEN - TRÀ XANH | C104: (0 trứng) | D104: 150g | E104: 70000 | F104: ='Đơn Đặt Hàng'!F99 -> 0 | G104: =E104*F104 -> 0
A105: 30A | B105: ĐẬU XANH - GẤC | C105: (0 trứng) | D105: 150g | E105: 70000 | F105: ='Đơn Đặt Hàng'!F100 -> 0 | G105: =E105*F105 -> 0
E106: Tổng | F106: =SUM(F19:F105) -> 0 | G106: =SUM(G19:G105) -> 0
E107: Chiết khấu | G107: ='Đơn Đặt Hàng'!G102 -> 0
E108: Số tiền trả | G108: =G106*(1-G107) -> 0
A110: THÔNG TIN XUẤT HOÁ ĐƠN | D110: GHI CHÚ
A111: Tên Công Ty:
A112: Địa Chỉ:
A113: Mã Số Thuế:
A114: Email:
A117: ĐẠI DIỆN BÁN HÀNG | D117: ĐẠI DIỆN MUA HÀNG
A118: (Ký tên, đóng dấu) | D118: (Ký tên, đóng dấu)
